BEGIN:VCALENDAR
VERSION:2.0
PRODID:-//Karl-Exius-Haus - ECPv6.15.20//NONSGML v1.0//EN
CALSCALE:GREGORIAN
METHOD:PUBLISH
X-WR-CALNAME:Karl-Exius-Haus
X-ORIGINAL-URL:https://karl-exius-haus.de
X-WR-CALDESC:Veranstaltungen für Karl-Exius-Haus
REFRESH-INTERVAL;VALUE=DURATION:PT1H
X-Robots-Tag:noindex
X-PUBLISHED-TTL:PT1H
BEGIN:VTIMEZONE
TZID:Europe/Berlin
BEGIN:DAYLIGHT
TZOFFSETFROM:+0100
TZOFFSETTO:+0200
TZNAME:CEST
DTSTART:20250330T010000
END:DAYLIGHT
BEGIN:STANDARD
TZOFFSETFROM:+0200
TZOFFSETTO:+0100
TZNAME:CET
DTSTART:20251026T010000
END:STANDARD
BEGIN:DAYLIGHT
TZOFFSETFROM:+0100
TZOFFSETTO:+0200
TZNAME:CEST
DTSTART:20260329T010000
END:DAYLIGHT
BEGIN:STANDARD
TZOFFSETFROM:+0200
TZOFFSETTO:+0100
TZNAME:CET
DTSTART:20261025T010000
END:STANDARD
BEGIN:DAYLIGHT
TZOFFSETFROM:+0100
TZOFFSETTO:+0200
TZNAME:CEST
DTSTART:20270328T010000
END:DAYLIGHT
BEGIN:STANDARD
TZOFFSETFROM:+0200
TZOFFSETTO:+0100
TZNAME:CET
DTSTART:20271031T010000
END:STANDARD
END:VTIMEZONE
BEGIN:VEVENT
DTSTART;TZID=Europe/Berlin:20260421T140000
DTEND;TZID=Europe/Berlin:20260421T160000
DTSTAMP:20260421T104001
CREATED:20260322T123702Z
LAST-MODIFIED:20260322T123702Z
UID:498-1776780000-1776787200@karl-exius-haus.de
SUMMARY:Repartatur-Café
DESCRIPTION:Reparieren statt Wegwerfen \nGemeinsam mit Ihnen versuchen ehrenamtliche Profis und Tüftler*innen\, \nbei Gebäck und Getränken\, Ihre defekten Haushaltsgegenstände oder \nLieblingskleidungsstücke zu reparieren. \nDas können sein: \n– elektrische Geräte (Kaffeemaschinen\, Lampen\, Föhne…) \n– Kleidung/Textilien mit Rissen oder Löchern \n– Fahrräder/Kinderwagen \n– Möbel/Spielzeug aus Holz \n– und weiteres unter dem Motto: alles\, was nicht mehr funktioniert und \nallein transportiert werden kann. \nWann: an jedem 3. Dienstag im Monat\, 14:00 bis 16:00 Uhr \nWo: Karl-Exius-Haus\, Westhusener Str. 16\, 44369 Dortmund
URL:https://karl-exius-haus.de/event/repartatur-cafe/
END:VEVENT
BEGIN:VEVENT
DTSTART;TZID=Europe/Berlin:20260503T150000
DTEND;TZID=Europe/Berlin:20260503T180000
DTSTAMP:20260421T104001
CREATED:20260322T123302Z
LAST-MODIFIED:20260322T123409Z
UID:494-1777820400-1777831200@karl-exius-haus.de
SUMMARY:Monis Tanztee
DESCRIPTION:In gemütlicher Atmosphäre bietet das ehrenamtliche IGKE-Team den Gästen neben einer reichlichen Auswahl selbst gebackener Torten auch frische Waffeln mit Kirschen und Sahne. Ab 15.00 Uhr spielt die Musik zum Tanz. Das Kuchenbuffet öffnet um 14.30 Uhr. Einlass ist ab 14.00 Uhr. Musik: Sebastian Schmitt-Rosenblatt
URL:https://karl-exius-haus.de/event/monis-tanztee-12/
LOCATION:Karl-Exius-Haus\, Westhusener Str. 16\, Dortmund\, NRW\, 44369\, Germany
END:VEVENT
BEGIN:VEVENT
DTSTART;TZID=Europe/Berlin:20260517T100000
DTEND;TZID=Europe/Berlin:20260517T160000
DTSTAMP:20260421T104001
CREATED:20260322T124332Z
LAST-MODIFIED:20260322T124408Z
UID:503-1779012000-1779033600@karl-exius-haus.de
SUMMARY:Trödelmarkt rund ums Karl-Exius-Haus
DESCRIPTION:Aufbau für Trödler ab 8.00 Uhr\, keine Anmeldung erforderlich\, Tapeziertisch 10\,00 €
URL:https://karl-exius-haus.de/event/troedelmarkt-rund-ums-karl-exius-haus/
END:VEVENT
BEGIN:VEVENT
DTSTART;TZID=Europe/Berlin:20260519T140000
DTEND;TZID=Europe/Berlin:20260519T160000
DTSTAMP:20260421T104001
CREATED:20260322T123838Z
LAST-MODIFIED:20260322T123838Z
UID:500-1779199200-1779206400@karl-exius-haus.de
SUMMARY:Reparatur-Café
DESCRIPTION:Reparieren statt Wegwerfen \nGemeinsam mit Ihnen versuchen ehrenamtliche Profis und Tüftler*innen\, \nbei Gebäck und Getränken\, Ihre defekten Haushaltsgegenstände oder \nLieblingskleidungsstücke zu reparieren. \nDas können sein: \n– elektrische Geräte (Kaffeemaschinen\, Lampen\, Föhne…) \n– Kleidung/Textilien mit Rissen oder Löchern \n– Fahrräder/Kinderwagen \n– Möbel/Spielzeug aus Holz \n– und weiteres unter dem Motto: alles\, was nicht mehr funktioniert und \nallein transportiert werden kann. \nWann: an jedem 3. Dienstag im Monat\, 14:00 bis 16:00 Uhr \nWo: Karl-Exius-Haus\, Westhusener Str. 16\, 44369 Dortmund
URL:https://karl-exius-haus.de/event/reparatur-cafe-4/
END:VEVENT
BEGIN:VEVENT
DTSTART;TZID=Europe/Berlin:20260604T163000
DTEND;TZID=Europe/Berlin:20260604T190000
DTSTAMP:20260421T104001
CREATED:20260322T124832Z
LAST-MODIFIED:20260322T124940Z
UID:505-1780590600-1780599600@karl-exius-haus.de
SUMMARY:Mitgliederversammlung
DESCRIPTION:Spaß am Ehrenamt? \nMitglied in der Interessengemeinschaft Karl-Exius-Haus e.V. werden! \nMitgliedsbeitrag im Monat 1\,00 €
URL:https://karl-exius-haus.de/event/mitgliederversammlung-2/
END:VEVENT
END:VCALENDAR